BEGIN:VCALENDAR
VERSION:2.0
PRODID:-//www.billwilsoncenter.org//NONSGML kigkonsult.se iCalcreator 2.30.
 10//
CALSCALE:GREGORIAN
METHOD:PUBLISH
UID:91de77ab-e45a-4586-ba1d-58b7b80d8bf1
X-WR-CALDESC:
X-WR-RELCALID:469ab7c743d85c00d3d1335c7e13d5de
X-WR-TIMEZONE:America/Los_Angeles
BEGIN:VTIMEZONE
TZID:America/Los_Angeles
BEGIN:STANDARD
TZNAME:PST
DTSTART:20211107T020000
TZOFFSETFROM:-0700
TZOFFSETTO:-0800
RDATE:20221106T020000
RDATE:20231105T020000
END:STANDARD
BEGIN:DAYLIGHT
TZNAME:PDT
DTSTART:20220313T020000
TZOFFSETFROM:-0800
TZOFFSETTO:-0700
RDATE:20230312T020000
END:DAYLIGHT
END:VTIMEZONE
BEGIN:VEVENT
UID:9904897c-06f3-45ae-bd11-8af1e088f93c
DTSTAMP:20260421T104423Z
DESCRIPTION:
DTSTART;TZID=America/Los_Angeles:20220828T093000
DTEND;TZID=America/Los_Angeles:20220828T120000
LOCATION:Downtown San Jose
SUMMARY:SV Pride Parade
END:VEVENT
END:VCALENDAR
